BEGIN:VCALENDAR
VERSION:2.0
PRODID:-//TV Groß Mimmelage von 1954 e.V. - ECPv6.11.2//NONSGML v1.0//EN
CALSCALE:GREGORIAN
METHOD:PUBLISH
X-ORIGINAL-URL:https://www.mimmelage.de
X-WR-CALDESC:Veranstaltungen für TV Groß Mimmelage von 1954 e.V.
REFRESH-INTERVAL;VALUE=DURATION:PT1H
X-Robots-Tag:noindex
X-PUBLISHED-TTL:PT1H
BEGIN:VTIMEZONE
TZID:Europe/Berlin
BEGIN:DAYLIGHT
TZOFFSETFROM:+0100
TZOFFSETTO:+0200
TZNAME:CEST
DTSTART:20250330T010000
END:DAYLIGHT
BEGIN:STANDARD
TZOFFSETFROM:+0200
TZOFFSETTO:+0100
TZNAME:CET
DTSTART:20251026T010000
END:STANDARD
END:VTIMEZONE
BEGIN:VEVENT
DTSTART;TZID=Europe/Berlin:20250220T190000
DTEND;TZID=Europe/Berlin:20250220T190000
DTSTAMP:20260423T043439
CREATED:20250220T100207Z
LAST-MODIFIED:20250220T100207Z
UID:9028-1740078000-1740078000@www.mimmelage.de
SUMMARY:Mitgliederversammlung
DESCRIPTION:teilen teilen twittern 
URL:https://www.mimmelage.de/termine/mitgliederversammlung-6/
LOCATION:Sportgelände TVM\, Frehorster Straße 1\, Badbergen\, 49635\, Deutschland
CATEGORIES:Öffentlich
ORGANIZER;CN="TV Gro%C3%9F Mimmelage von 1954 e.V.":MAILTO:info@mimmelage.de
END:VEVENT
END:VCALENDAR