BEGIN:VCALENDAR
VERSION:2.0
PRODID:-//TV Groß Mimmelage von 1954 e.V. - ECPv6.11.2//NONSGML v1.0//EN
CALSCALE:GREGORIAN
METHOD:PUBLISH
X-WR-CALNAME:TV Groß Mimmelage von 1954 e.V.
X-ORIGINAL-URL:https://www.mimmelage.de
X-WR-CALDESC:Veranstaltungen für TV Groß Mimmelage von 1954 e.V.
REFRESH-INTERVAL;VALUE=DURATION:PT1H
X-Robots-Tag:noindex
X-PUBLISHED-TTL:PT1H
BEGIN:VTIMEZONE
TZID:Europe/Berlin
BEGIN:DAYLIGHT
TZOFFSETFROM:+0100
TZOFFSETTO:+0200
TZNAME:CEST
DTSTART:20240331T010000
END:DAYLIGHT
BEGIN:STANDARD
TZOFFSETFROM:+0200
TZOFFSETTO:+0100
TZNAME:CET
DTSTART:20241027T010000
END:STANDARD
END:VTIMEZONE
BEGIN:VEVENT
DTSTART;TZID=Europe/Berlin:20240113T193000
DTEND;TZID=Europe/Berlin:20240113T193000
DTSTAMP:20260424T014637
CREATED:20240116T152636Z
LAST-MODIFIED:20240116T153025Z
UID:8862-1705174200-1705174200@www.mimmelage.de
SUMMARY:Kohlessen
DESCRIPTION:teilen teilen twittern 
URL:https://www.mimmelage.de/termine/kohlessen-3/
LOCATION:Hof Elting-Bußmeyer\, Vehser Str. 7\, Badbergen\, 49635\, Deutschland
CATEGORIES:Öffentlich
ORGANIZER;CN="TV Gro%C3%9F Mimmelage von 1954 e.V.":MAILTO:info@mimmelage.de
END:VEVENT
BEGIN:VEVENT
DTSTART;VALUE=DATE:20240120
DTEND;VALUE=DATE:20240121
DTSTAMP:20260424T014637
CREATED:20240116T152810Z
LAST-MODIFIED:20240116T153132Z
UID:8864-1705708800-1705795199@www.mimmelage.de
SUMMARY:Darttunier
DESCRIPTION:teilen teilen twittern 
URL:https://www.mimmelage.de/termine/darttunier/
LOCATION:Sporthalle Nortrup\, Schulstraße 4\, Nortrup\, 49638\, Deutschland
CATEGORIES:Öffentlich
ORGANIZER;CN="TV Gro%C3%9F Mimmelage von 1954 e.V.":MAILTO:info@mimmelage.de
END:VEVENT
BEGIN:VEVENT
DTSTART;TZID=Europe/Berlin:20240121T130000
DTEND;TZID=Europe/Berlin:20240121T130000
DTSTAMP:20260424T014637
CREATED:20240116T152922Z
LAST-MODIFIED:20240116T152922Z
UID:8866-1705842000-1705842000@www.mimmelage.de
SUMMARY:Von Garrel Cup
DESCRIPTION:teilen teilen twittern 
URL:https://www.mimmelage.de/termine/von-garrel-cup-4/
LOCATION:Sporthalle Nortrup\, Schulstraße 4\, Nortrup\, 49638\, Deutschland
CATEGORIES:Öffentlich
ORGANIZER;CN="TV Gro%C3%9F Mimmelage von 1954 e.V.":MAILTO:info@mimmelage.de
END:VEVENT
END:VCALENDAR