BEGIN:VCALENDAR
VERSION:2.0
PRODID:-//TV Groß Mimmelage von 1954 e.V. - ECPv6.11.2//NONSGML v1.0//EN
CALSCALE:GREGORIAN
METHOD:PUBLISH
X-ORIGINAL-URL:https://www.mimmelage.de
X-WR-CALDESC:Veranstaltungen für TV Groß Mimmelage von 1954 e.V.
REFRESH-INTERVAL;VALUE=DURATION:PT1H
X-Robots-Tag:noindex
X-PUBLISHED-TTL:PT1H
BEGIN:VTIMEZONE
TZID:Europe/Berlin
BEGIN:DAYLIGHT
TZOFFSETFROM:+0100
TZOFFSETTO:+0200
TZNAME:CEST
DTSTART:20260329T010000
END:DAYLIGHT
BEGIN:STANDARD
TZOFFSETFROM:+0200
TZOFFSETTO:+0100
TZNAME:CET
DTSTART:20261025T010000
END:STANDARD
END:VTIMEZONE
BEGIN:VEVENT
DTSTART;VALUE=DATE:20260619
DTEND;VALUE=DATE:20260620
DTSTAMP:20260420T182834
CREATED:20260328T102542Z
LAST-MODIFIED:20260328T102542Z
UID:9131-1781827200-1781913599@www.mimmelage.de
SUMMARY:Pfautec Cup
DESCRIPTION:teilen teilen twittern 
URL:https://www.mimmelage.de/termine/pfautec-cup-4/
LOCATION:Sportgelände TVM\, Frehorster Straße 1\, Badbergen\, 49635\, Deutschland
CATEGORIES:Öffentlich
END:VEVENT
END:VCALENDAR