BEGIN:VCALENDAR
VERSION:2.0
PRODID:-//TV Groß Mimmelage von 1954 e.V. - ECPv6.11.2//NONSGML v1.0//EN
CALSCALE:GREGORIAN
METHOD:PUBLISH
X-ORIGINAL-URL:https://www.mimmelage.de
X-WR-CALDESC:Veranstaltungen für TV Groß Mimmelage von 1954 e.V.
REFRESH-INTERVAL;VALUE=DURATION:PT1H
X-Robots-Tag:noindex
X-PUBLISHED-TTL:PT1H
BEGIN:VTIMEZONE
TZID:Europe/Berlin
BEGIN:DAYLIGHT
TZOFFSETFROM:+0100
TZOFFSETTO:+0200
TZNAME:CEST
DTSTART:20260329T010000
END:DAYLIGHT
BEGIN:STANDARD
TZOFFSETFROM:+0200
TZOFFSETTO:+0100
TZNAME:CET
DTSTART:20261025T010000
END:STANDARD
END:VTIMEZONE
BEGIN:VEVENT
DTSTART;TZID=Europe/Berlin:20260614T103000
DTEND;TZID=Europe/Berlin:20260614T103000
DTSTAMP:20260420T183535
CREATED:20260128T084618Z
LAST-MODIFIED:20260128T084637Z
UID:9098-1781433000-1781433000@www.mimmelage.de
SUMMARY:4. Windmühlenlauf (Sparkassen-Cup)
DESCRIPTION:teilen teilen twittern 
URL:https://www.mimmelage.de/termine/3-windmuehlenlauf-sparkassen-cup-2/
LOCATION:Sportgelände TVM\, Frehorster Straße 1\, Badbergen\, 49635\, Deutschland
CATEGORIES:Öffentlich
ORGANIZER;CN="TV Gro%C3%9F Mimmelage von 1954 e.V.":MAILTO:info@mimmelage.de
END:VEVENT
END:VCALENDAR