BEGIN:VCALENDAR
VERSION:2.0
PRODID:-//TV Groß Mimmelage von 1954 e.V. - ECPv6.11.2//NONSGML v1.0//EN
CALSCALE:GREGORIAN
METHOD:PUBLISH
X-ORIGINAL-URL:https://www.mimmelage.de
X-WR-CALDESC:Veranstaltungen für TV Groß Mimmelage von 1954 e.V.
REFRESH-INTERVAL;VALUE=DURATION:PT1H
X-Robots-Tag:noindex
X-PUBLISHED-TTL:PT1H
BEGIN:VTIMEZONE
TZID:Europe/Berlin
BEGIN:DAYLIGHT
TZOFFSETFROM:+0100
TZOFFSETTO:+0200
TZNAME:CEST
DTSTART:20260329T010000
END:DAYLIGHT
BEGIN:STANDARD
TZOFFSETFROM:+0200
TZOFFSETTO:+0100
TZNAME:CET
DTSTART:20261025T010000
END:STANDARD
END:VTIMEZONE
BEGIN:VEVENT
DTSTART;TZID=Europe/Berlin:20260405T193000
DTEND;TZID=Europe/Berlin:20260405T193000
DTSTAMP:20260420T151300
CREATED:20260328T102315Z
LAST-MODIFIED:20260328T102315Z
UID:9126-1775417400-1775417400@www.mimmelage.de
SUMMARY:Osterfeuer
DESCRIPTION:teilen teilen twittern 
URL:https://www.mimmelage.de/termine/osterfeuer-8/
LOCATION:Sportgelände TVM\, Frehorster Straße 1\, Badbergen\, 49635\, Deutschland
CATEGORIES:Öffentlich
END:VEVENT
END:VCALENDAR