BEGIN:VCALENDAR
VERSION:2.0
PRODID:-//TV Groß Mimmelage von 1954 e.V. - ECPv6.11.2//NONSGML v1.0//EN
CALSCALE:GREGORIAN
METHOD:PUBLISH
X-WR-CALNAME:TV Groß Mimmelage von 1954 e.V.
X-ORIGINAL-URL:https://www.mimmelage.de
X-WR-CALDESC:Veranstaltungen für TV Groß Mimmelage von 1954 e.V.
REFRESH-INTERVAL;VALUE=DURATION:PT1H
X-Robots-Tag:noindex
X-PUBLISHED-TTL:PT1H
BEGIN:VTIMEZONE
TZID:Europe/Berlin
BEGIN:DAYLIGHT
TZOFFSETFROM:+0100
TZOFFSETTO:+0200
TZNAME:CEST
DTSTART:20260329T010000
END:DAYLIGHT
BEGIN:STANDARD
TZOFFSETFROM:+0200
TZOFFSETTO:+0100
TZNAME:CET
DTSTART:20261025T010000
END:STANDARD
END:VTIMEZONE
BEGIN:VEVENT
DTSTART;VALUE=DATE:20260118
DTEND;VALUE=DATE:20260119
DTSTAMP:20260420T202608
CREATED:20260328T101834Z
LAST-MODIFIED:20260328T101834Z
UID:9117-1768694400-1768780799@www.mimmelage.de
SUMMARY:Dartstunier
DESCRIPTION:teilen teilen twittern 
URL:https://www.mimmelage.de/termine/dartstunier-2/
LOCATION:Sporthalle Badbergen\, Jahnstraße 9\, Badbergen\, Niedersachsen\, 49635\, Germany
CATEGORIES:Öffentlich
END:VEVENT
BEGIN:VEVENT
DTSTART;TZID=Europe/Berlin:20260118T130000
DTEND;TZID=Europe/Berlin:20260118T130000
DTSTAMP:20260420T202608
CREATED:20260328T102010Z
LAST-MODIFIED:20260328T102010Z
UID:9120-1768741200-1768741200@www.mimmelage.de
SUMMARY:25. Von Garrel Cup
DESCRIPTION:teilen teilen twittern 
URL:https://www.mimmelage.de/termine/25-von-garrel-cup/
LOCATION:Sporthalle Badbergen\, Jahnstraße 9\, Badbergen\, Niedersachsen\, 49635\, Germany
CATEGORIES:Öffentlich
END:VEVENT
END:VCALENDAR